BEGIN:VCALENDAR
VERSION:2.0
PRODID:-//Seaside Landings at Flagler Beach - ECPv6.15.20//NONSGML v1.0//EN
CALSCALE:GREGORIAN
METHOD:PUBLISH
X-WR-CALNAME:Seaside Landings at Flagler Beach
X-ORIGINAL-URL:https://seasidelandings.us
X-WR-CALDESC:Events for Seaside Landings at Flagler Beach
REFRESH-INTERVAL;VALUE=DURATION:PT1H
X-Robots-Tag:noindex
X-PUBLISHED-TTL:PT1H
BEGIN:VTIMEZONE
TZID:America/New_York
BEGIN:DAYLIGHT
TZOFFSETFROM:-0500
TZOFFSETTO:-0400
TZNAME:EDT
DTSTART:20220313T070000
END:DAYLIGHT
BEGIN:STANDARD
TZOFFSETFROM:-0400
TZOFFSETTO:-0500
TZNAME:EST
DTSTART:20221106T060000
END:STANDARD
BEGIN:DAYLIGHT
TZOFFSETFROM:-0500
TZOFFSETTO:-0400
TZNAME:EDT
DTSTART:20230312T070000
END:DAYLIGHT
BEGIN:STANDARD
TZOFFSETFROM:-0400
TZOFFSETTO:-0500
TZNAME:EST
DTSTART:20231105T060000
END:STANDARD
BEGIN:DAYLIGHT
TZOFFSETFROM:-0500
TZOFFSETTO:-0400
TZNAME:EDT
DTSTART:20240310T070000
END:DAYLIGHT
BEGIN:STANDARD
TZOFFSETFROM:-0400
TZOFFSETTO:-0500
TZNAME:EST
DTSTART:20241103T060000
END:STANDARD
END:VTIMEZONE
BEGIN:VEVENT
DTSTART;TZID=America/New_York:20230415T160000
DTEND;TZID=America/New_York:20230415T190000
DTSTAMP:20260420T073919
CREATED:20230323T170210Z
LAST-MODIFIED:20230403T022156Z
UID:1194-1681574400-1681585200@seasidelandings.us
SUMMARY:David Dyal's Open House
DESCRIPTION:Please see flyer for further details. \n 
URL:https://seasidelandings.us/sslevent/david-dyals-open-house/
LOCATION:David Dyal Home\, 225 Seaside Landings Drive S\, Flagler Beach\, FL\, 32136\, United States
CATEGORIES:Other Community Events
ATTACH;FMTTYPE=image/jpeg:https://seasidelandings.us/wp-content/uploads/2023/03/seaside-landing-election-flyer-20231024_1.jpg
ORGANIZER;CN="David Dyal":MAILTO:d_dyal@bellsouth.net
END:VEVENT
END:VCALENDAR