BEGIN:VCALENDAR
VERSION:2.0
PRODID:-//Seaside Landings at Flagler Beach - ECPv6.15.20//NONSGML v1.0//EN
CALSCALE:GREGORIAN
METHOD:PUBLISH
X-ORIGINAL-URL:https://seasidelandings.us
X-WR-CALDESC:Events for Seaside Landings at Flagler Beach
REFRESH-INTERVAL;VALUE=DURATION:PT1H
X-Robots-Tag:noindex
X-PUBLISHED-TTL:PT1H
BEGIN:VTIMEZONE
TZID:America/New_York
BEGIN:DAYLIGHT
TZOFFSETFROM:-0500
TZOFFSETTO:-0400
TZNAME:EDT
DTSTART:20210314T070000
END:DAYLIGHT
BEGIN:STANDARD
TZOFFSETFROM:-0400
TZOFFSETTO:-0500
TZNAME:EST
DTSTART:20211107T060000
END:STANDARD
BEGIN:DAYLIGHT
TZOFFSETFROM:-0500
TZOFFSETTO:-0400
TZNAME:EDT
DTSTART:20220313T070000
END:DAYLIGHT
BEGIN:STANDARD
TZOFFSETFROM:-0400
TZOFFSETTO:-0500
TZNAME:EST
DTSTART:20221106T060000
END:STANDARD
BEGIN:DAYLIGHT
TZOFFSETFROM:-0500
TZOFFSETTO:-0400
TZNAME:EDT
DTSTART:20230312T070000
END:DAYLIGHT
BEGIN:STANDARD
TZOFFSETFROM:-0400
TZOFFSETTO:-0500
TZNAME:EST
DTSTART:20231105T060000
END:STANDARD
BEGIN:DAYLIGHT
TZOFFSETFROM:-0500
TZOFFSETTO:-0400
TZNAME:EDT
DTSTART:20240310T070000
END:DAYLIGHT
BEGIN:STANDARD
TZOFFSETFROM:-0400
TZOFFSETTO:-0500
TZNAME:EST
DTSTART:20241103T060000
END:STANDARD
END:VTIMEZONE
BEGIN:VEVENT
DTSTART;TZID=America/New_York:20230619T163000
DTEND;TZID=America/New_York:20230619T190000
DTSTAMP:20260420T061211
CREATED:20230315T001936Z
LAST-MODIFIED:20230424T202926Z
UID:1152-1687192200-1687201200@seasidelandings.us
SUMMARY:SSL Annual Owners Meeting 2023
DESCRIPTION:The Owners’ Annual Meeting will be held at:\nChannel Side\nPalm Coast\, FL 32137\nJune 19\, 2023\nCheck-in Begins at 4:30 PM
URL:https://seasidelandings.us/sslevent/ssl-annual-owners-meeting-2023/
LOCATION:Chanel Side\, 1 Yacht Club Drive\, Palm Coast\, FL\, 32137
CATEGORIES:HOA Meetings
ATTACH;FMTTYPE=image/jpeg:https://seasidelandings.us/wp-content/uploads/2022/03/hoa-icon.jpg
END:VEVENT
BEGIN:VEVENT
DTSTART;TZID=America/New_York:20230509T133000
DTEND;TZID=America/New_York:20230509T143000
DTSTAMP:20260420T061211
CREATED:20230426T163726Z
LAST-MODIFIED:20230426T163726Z
UID:1285-1683639000-1683642600@seasidelandings.us
SUMMARY:SSL HOA BOD Special Meeting May 9
DESCRIPTION:BOD MTG Agenda 5.9.23 \nAGENDA\nCalling of the Roll to Establish a Quorum\nProof of Meeting Notice\nPetition by Members to increase Board of Directors from 3 to 5 Directors \nRemote attendees can join via Zoom at this link: \nhttps://us06web.zoom.us/j/82870300251?pwd=TWkwQ25BRk5sYXFnV1FCNm0zZXNkUT09 \n 
URL:https://seasidelandings.us/sslevent/ssl-hoa-bod-special-meeting-may-9/
LOCATION:Flagler County Public Library\, 2500 Palm Coast Parkway\, NW\, Palm Coast\, FL\, 32137\, United States
CATEGORIES:HOA Meetings
ATTACH;FMTTYPE=image/jpeg:https://seasidelandings.us/wp-content/uploads/2022/03/hoa-icon.jpg
END:VEVENT
BEGIN:VEVENT
DTSTART;TZID=America/New_York:20220220T150000
DTEND;TZID=America/New_York:20220220T160000
DTSTAMP:20260420T061211
CREATED:20220105T222356Z
LAST-MODIFIED:20220122T171735Z
UID:349-1645369200-1645372800@seasidelandings.us
SUMMARY:January HOA Board Meeting (placeholder)
DESCRIPTION:A placeholder for the next HOA Board Meeting. \nDate and location posted are hypothetical and will be updated once meeting is formally scheduled.
URL:https://seasidelandings.us/sslevent/january-hoa-board-meeting-placeholder/
LOCATION:Watson Mgmt Palm Coast Office\, 1410 Palm Coast Pkwy NW\, Palm Coast\, FL\, 32137\, United States
CATEGORIES:HOA Meetings
ATTACH;FMTTYPE=image/jpeg:https://seasidelandings.us/wp-content/uploads/2021/08/hoa-icon.jpg
END:VEVENT
END:VCALENDAR