BEGIN:VCALENDAR
VERSION:2.0
PRODID:-//Seaside Landings at Flagler Beach - ECPv6.15.20//NONSGML v1.0//EN
CALSCALE:GREGORIAN
METHOD:PUBLISH
X-WR-CALNAME:Seaside Landings at Flagler Beach
X-ORIGINAL-URL:https://seasidelandings.us
X-WR-CALDESC:Events for Seaside Landings at Flagler Beach
REFRESH-INTERVAL;VALUE=DURATION:PT1H
X-Robots-Tag:noindex
X-PUBLISHED-TTL:PT1H
BEGIN:VTIMEZONE
TZID:America/New_York
BEGIN:DAYLIGHT
TZOFFSETFROM:-0500
TZOFFSETTO:-0400
TZNAME:EDT
DTSTART:20220313T070000
END:DAYLIGHT
BEGIN:STANDARD
TZOFFSETFROM:-0400
TZOFFSETTO:-0500
TZNAME:EST
DTSTART:20221106T060000
END:STANDARD
BEGIN:DAYLIGHT
TZOFFSETFROM:-0500
TZOFFSETTO:-0400
TZNAME:EDT
DTSTART:20230312T070000
END:DAYLIGHT
BEGIN:STANDARD
TZOFFSETFROM:-0400
TZOFFSETTO:-0500
TZNAME:EST
DTSTART:20231105T060000
END:STANDARD
BEGIN:DAYLIGHT
TZOFFSETFROM:-0500
TZOFFSETTO:-0400
TZNAME:EDT
DTSTART:20240310T070000
END:DAYLIGHT
BEGIN:STANDARD
TZOFFSETFROM:-0400
TZOFFSETTO:-0500
TZNAME:EST
DTSTART:20241103T060000
END:STANDARD
END:VTIMEZONE
BEGIN:VEVENT
DTSTART;TZID=America/New_York:20231111T130000
DTEND;TZID=America/New_York:20231111T160000
DTSTAMP:20260420T043345
CREATED:20231013T201736Z
LAST-MODIFIED:20231013T201736Z
UID:1639-1699707600-1699718400@seasidelandings.us
SUMMARY:Seaside Landings Friendsgiving & Silent Auction Party
DESCRIPTION: Seaside Landings Friendsgiving & Silent Auction Party  \nGobble\, Gobble\, It’s Time to Wobble!  \nJoin us for a festive feast of neighborhood friendship\, gratitude\, and giving at our 1st annual Seaside Landings Friendsgiving & Silent Auction Party. It’s the perfect way to kick off the holiday season with good company\, delicious food\, and a chance to win big!  \n Date: November 11\, 2023\n Time: 1:00 – 4:00 PM\n Venue: “Under the Oaks” at the Entrance \n What to Expect: \n  A delectable Friendsgiving feast to satisfy your taste buds.\n A Silent Auction filled with incredible items up for grabs provided by the Community Events Committee\n A chance to win big! RSVP to enter our Gift Card Raffle. \n How to Enter the Gift Card Raffle: \n·  RSVP by November 4th to secure your spot. \n· Attend the Friendsgiving & Silent Auction Party on November 11th. \n· Get an entry into the Gift Card Raffle for each of you that RSVP’d in advance. \nThe committee members are excited to provide the main course\, including turkey\, ham\, and more.  To make this feast even more fantastic\, we kindly request that you bring a side dish or dessert to share and let us know what you will be bringing when you RSVP.  Let’s make this potluck-style gathering a true culinary delight! \nLastly\, if you would like to donate a bottle of alcohol\, you may bring your bottle to the \nevent and it will be entered in the auction as part of an alcohol bundle. \n  \n Please RSVP by November 4th to Debbie Kunz @954-258-0771 and let her know what side/dessert you are bringing and that way we can ensure we have enough delicious food and fun surprises in store for you! Remember you MUST RSVP in order to be entered into the raffle!!! \n Let’s come together\, celebrate the season of gratitude\, and make a positive impact on our community. We can’t wait to see you there!  Don’t miss out on this fantastic evening of friendship and fundraising.  All auction proceeds will go towards our AED Community Project. \nDress code: Casual and cozy – Thanksgiving-themed attire encouraged!  \nGet ready to gobble ’til you wobble and give ’til you’re full of thanks!  \n  \nFor more information on AED’s and their benefits to our community please visit the\nfollowing links:\nhttps://youtu.be/D5Rzgk3sPR4?si=_HM8-crtjohXVY-3\nhttps://youtu.be/jdJaIKFy3rU?si=Pcoy-B4hjducZ490 \nDefibtech Lifeline AED | defibshop
URL:https://seasidelandings.us/sslevent/seaside-landings-friendsgiving-silent-auction-party/
LOCATION:“The Shaded Greens” at Seaside Landings\, 5213-5211\, Co Rd 201\, Flagler Beach\, FL\, 32136\, United States
CATEGORIES:Community Event,HOA Social Events
END:VEVENT
BEGIN:VEVENT
DTSTART;TZID=America/New_York:20231008T160000
DTEND;TZID=America/New_York:20231008T200000
DTSTAMP:20260420T043345
CREATED:20230918T191913Z
LAST-MODIFIED:20230918T191914Z
UID:1592-1696780800-1696795200@seasidelandings.us
SUMMARY:Sightseeing Dinner Cruise
DESCRIPTION:
URL:https://seasidelandings.us/sslevent/sightseeing-dinner-cruise/
LOCATION:Mama Foo Foo Restaurant\, 125 Basin Street\, Daytona Beach\, FL\, 32114\, United States
CATEGORIES:Community Event,HOA Social Events
ATTACH;FMTTYPE=image/jpeg:https://seasidelandings.us/wp-content/uploads/2023/09/Sightseeing-Diner-Cruise.jpg
END:VEVENT
BEGIN:VEVENT
DTSTART;TZID=America/New_York:20230704T160000
DTEND;TZID=America/New_York:20230704T220000
DTSTAMP:20260420T043345
CREATED:20230625T030416Z
LAST-MODIFIED:20230625T232542Z
UID:1352-1688486400-1688508000@seasidelandings.us
SUMMARY:July 4 Celebration "Under the Oaks"
DESCRIPTION:Please make time during your celebration of July 4 to spend it with your friends and neighbors at Seaside Landings. \nMore details about the event from the Community Events and Hospitality Committee was recently posted and distributed at \nLet’s Celebrate the 4th “Under The Oaks” – Seaside Landings at Flagler Beach \nbut suffice it to say\, it will be fun and filling and will present an opportunity for all of us to celebrate this great American Holiday in community and friendship. \n  \nLet’s All Get Together for some 4th of July Festivities “Under The Oaks” \nBurgers & Dogs Provided by the HOA \nDon’t forget to bring a chair\, your drink of choice and your favorite recipe to share. \nPLEASE….we need your RSVP so we know how many burgers and dogs to buy!! \nRSVP to Diana Reed: 386-562-2284 or below
URL:https://seasidelandings.us/sslevent/july-4-celebration-placeholder/
LOCATION:“The Shaded Greens” at Seaside Landings\, 5213-5211\, Co Rd 201\, Flagler Beach\, FL\, 32136\, United States
CATEGORIES:Community Event
ATTACH;FMTTYPE=image/jpeg:https://seasidelandings.us/wp-content/uploads/2023/06/july4thevents-948x640-1.jpg
END:VEVENT
END:VCALENDAR